BEGIN:VCALENDAR
VERSION:2.0
PRODID:-//Living Hope Methodist Church - ECPv6.15.20//NONSGML v1.0//EN
CALSCALE:GREGORIAN
METHOD:PUBLISH
X-WR-CALNAME:Living Hope Methodist Church
X-ORIGINAL-URL:http://livinghopemc.com
X-WR-CALDESC:Events for Living Hope Methodist Church
REFRESH-INTERVAL;VALUE=DURATION:PT1H
X-Robots-Tag:noindex
X-PUBLISHED-TTL:PT1H
BEGIN:VTIMEZONE
TZID:Asia/Shanghai
BEGIN:STANDARD
TZOFFSETFROM:+0800
TZOFFSETTO:+0800
TZNAME:CST
DTSTART:20140101T000000
END:STANDARD
END:VTIMEZONE
BEGIN:VEVENT
DTSTART;TZID=Asia/Shanghai:20190421T100000
DTEND;TZID=Asia/Shanghai:20190421T120000
DTSTAMP:20260425T014736
CREATED:20190331T002238Z
LAST-MODIFIED:20190331T002639Z
UID:22930-1555840800-1555848000@livinghopemc.com
SUMMARY:Easter Sunday
DESCRIPTION:Happy Easter! Come and join us for Easter Service! 
URL:http://livinghopemc.com/event/easter-sunday-2/
LOCATION:Living Hope Methodist Church\, Malaysia
END:VEVENT
BEGIN:VEVENT
DTSTART;TZID=Asia/Shanghai:20190419T203000
DTEND;TZID=Asia/Shanghai:20190419T220000
DTSTAMP:20260425T014736
CREATED:20190331T003802Z
LAST-MODIFIED:20190331T003802Z
UID:22933-1555705800-1555711200@livinghopemc.com
SUMMARY:Good Friday
DESCRIPTION:
URL:http://livinghopemc.com/event/good-friday-2/
END:VEVENT
BEGIN:VEVENT
DTSTART;TZID=Asia/Shanghai:20190418T203000
DTEND;TZID=Asia/Shanghai:20190418T220000
DTSTAMP:20260425T014736
CREATED:20190331T004735Z
LAST-MODIFIED:20190331T014138Z
UID:22934-1555619400-1555624800@livinghopemc.com
SUMMARY:Maundy Thursday
DESCRIPTION:
URL:http://livinghopemc.com/event/moundy-thursday/
LOCATION:Living Hope Methodist Church\, Malaysia
END:VEVENT
BEGIN:VEVENT
DTSTART;VALUE=DATE:20150405
DTEND;VALUE=DATE:20150406
DTSTAMP:20260425T014736
CREATED:20150221T015825Z
LAST-MODIFIED:20150221T015825Z
UID:248-1428192000-1428278399@livinghopemc.com
SUMMARY:Easter Sunday
DESCRIPTION:
URL:http://livinghopemc.com/event/easter-sunday/
LOCATION:Living Hope Methodist Church\, Malaysia
END:VEVENT
BEGIN:VEVENT
DTSTART;VALUE=DATE:20150403
DTEND;VALUE=DATE:20150404
DTSTAMP:20260425T014736
CREATED:20150221T015600Z
LAST-MODIFIED:20150221T015600Z
UID:247-1428019200-1428105599@livinghopemc.com
SUMMARY:Good Friday
DESCRIPTION:
URL:http://livinghopemc.com/event/good-friday/
LOCATION:Living Hope Methodist Church\, Malaysia
END:VEVENT
BEGIN:VEVENT
DTSTART;VALUE=DATE:20150402
DTEND;VALUE=DATE:20150403
DTSTAMP:20260425T014736
CREATED:20150221T015414Z
LAST-MODIFIED:20150221T015414Z
UID:245-1427932800-1428019199@livinghopemc.com
SUMMARY:Maundy Thursday
DESCRIPTION:
URL:http://livinghopemc.com/event/maundy-thursday/
LOCATION:Living Hope Methodist Church\, Malaysia
END:VEVENT
BEGIN:VEVENT
DTSTART;TZID=Asia/Shanghai:20150321T090000
DTEND;TZID=Asia/Shanghai:20150321T161500
DTSTAMP:20260425T014736
CREATED:20150314T173446Z
LAST-MODIFIED:20150314T184725Z
UID:363-1426928400-1426954500@livinghopemc.com
SUMMARY:
DESCRIPTION:If interested to attend\, kindly register with LHMC Administrator\, Sister Margaret by emailing her at: \nlhmc@livinghopemc.com \nPlease click on the image for further information.
URL:http://livinghopemc.com/event/363/
LOCATION:Trinity Methodist Church\, No. 6\, Jalan 5/37\, Bukit Gasing \, Petaling Jaya\, Selangor\, 46000\, Malaysia
CATEGORIES:Seminar
ATTACH;FMTTYPE=image/jpeg:http://livinghopemc.com/wp-content/uploads/2015/03/courage.jpg
END:VEVENT
END:VCALENDAR